BEGIN:VCALENDAR
VERSION:2.0
PRODID:-//Contratero//ES
CALSCALE:GREGORIAN
METHOD:PUBLISH
BEGIN:VEVENT
UID:54/2025 SV PAS BIS@contratero.es
DTSTAMP:20260426T004138Z
DTSTART:20250919T235959
DTEND:20250920T005959
SUMMARY:Cierre: Consultoría especializada en la creación de produc
DESCRIPTION:Consultoría especializada en la creación de productos culturales\, turísticos y educativos sobre cultura sefardí\, en el marco del proyecto "0276_KAMINOS_4_E"\, cofinanciado por la Unión Europea a través...\\n\\nOrganismo: Presidencia de la Diputación Provincial de Cáceres\\n\\nVer en Contratero: https://contratero.es/contracts/54/2025 SV PAS BIS
URL:https://contratero.es/contracts/54/2025 SV PAS BIS
STATUS:CONFIRMED
BEGIN:VALARM
TRIGGER:-P1D
ACTION:DISPLAY
DESCRIPTION:Recordatorio: Consultoría especializada en l
END:VALARM
END:VEVENT
END:VCALENDAR